BEGIN:VCALENDAR
VERSION:2.0
PRODID:-//Daryl Jervis Dance Studio - ECPv6.11.2.1//NONSGML v1.0//EN
CALSCALE:GREGORIAN
METHOD:PUBLISH
X-WR-CALNAME:Daryl Jervis Dance Studio
X-ORIGINAL-URL:https://daryljervisdance.com
X-WR-CALDESC:Events for Daryl Jervis Dance Studio
REFRESH-INTERVAL;VALUE=DURATION:PT1H
X-Robots-Tag:noindex
X-PUBLISHED-TTL:PT1H
BEGIN:VTIMEZONE
TZID:America/Detroit
BEGIN:DAYLIGHT
TZOFFSETFROM:-0500
TZOFFSETTO:-0400
TZNAME:EDT
DTSTART:20250309T070000
END:DAYLIGHT
BEGIN:STANDARD
TZOFFSETFROM:-0400
TZOFFSETTO:-0500
TZNAME:EST
DTSTART:20251102T060000
END:STANDARD
END:VTIMEZONE
BEGIN:VEVENT
DTSTART;TZID=America/Detroit:20250318T080000
DTEND;TZID=America/Detroit:20250318T170000
DTSTAMP:20260421T112907
CREATED:20250318T204114Z
LAST-MODIFIED:20250318T204114Z
UID:2954-1742284800-1742317200@daryljervisdance.com
SUMMARY:First Day of Classes for the 2025-2026 Season
DESCRIPTION:Welcome back DJDS!
URL:https://daryljervisdance.com/event/first-day-of-classes-for-the-2025-2026-season/
LOCATION:Daryl Jervis Dance Studio\, 7575 Sylvan Towne Dr\, Sylvania\, OH\, 43560\, United States
END:VEVENT
BEGIN:VEVENT
DTSTART;TZID=America/Detroit:20250324T163000
DTEND;TZID=America/Detroit:20250330T210000
DTSTAMP:20260421T112907
CREATED:20240927T232426Z
LAST-MODIFIED:20240927T232426Z
UID:2859-1742833800-1743368400@daryljervisdance.com
SUMMARY:Spring Break
DESCRIPTION:The studio will be closed for Spring Break Monday\, March 24th – Sunday\, March 30th 2025. Classes resume Monday\, March 31st 2025.
URL:https://daryljervisdance.com/event/spring-break-4/
END:VEVENT
BEGIN:VEVENT
DTSTART;TZID=America/Detroit:20250331T163000
DTEND;TZID=America/Detroit:20250331T210000
DTSTAMP:20260421T112907
CREATED:20240927T232858Z
LAST-MODIFIED:20240927T232858Z
UID:2866-1743438600-1743454800@daryljervisdance.com
SUMMARY:Classes Resume
DESCRIPTION:WELCOME BACK DANCERS!
URL:https://daryljervisdance.com/event/classes-resume-11/
END:VEVENT
END:VCALENDAR