BEGIN:VCALENDAR
VERSION:2.0
PRODID:-//Daryl Jervis Dance Studio - ECPv6.11.2.1//NONSGML v1.0//EN
CALSCALE:GREGORIAN
METHOD:PUBLISH
X-ORIGINAL-URL:https://daryljervisdance.com
X-WR-CALDESC:Events for Daryl Jervis Dance Studio
REFRESH-INTERVAL;VALUE=DURATION:PT1H
X-Robots-Tag:noindex
X-PUBLISHED-TTL:PT1H
BEGIN:VTIMEZONE
TZID:America/Detroit
BEGIN:DAYLIGHT
TZOFFSETFROM:-0500
TZOFFSETTO:-0400
TZNAME:EDT
DTSTART:20240310T070000
END:DAYLIGHT
BEGIN:STANDARD
TZOFFSETFROM:-0400
TZOFFSETTO:-0500
TZNAME:EST
DTSTART:20241103T060000
END:STANDARD
END:VTIMEZONE
BEGIN:VEVENT
DTSTART;TZID=America/Detroit:20241015T163000
DTEND;TZID=America/Detroit:20241015T210000
DTSTAMP:20260421T194932
CREATED:20240927T225656Z
LAST-MODIFIED:20240927T225656Z
UID:2836-1729009800-1729026000@daryljervisdance.com
SUMMARY:HVDC Costume Deposits Due
DESCRIPTION:Costume deposits for our High Voltage Dance Company members are due today.
URL:https://daryljervisdance.com/event/hvdc-costume-deposits-due-4/
END:VEVENT
BEGIN:VEVENT
DTSTART;TZID=America/Detroit:20241028T163000
DTEND;TZID=America/Detroit:20241030T210000
DTSTAMP:20260421T194932
CREATED:20240927T230120Z
LAST-MODIFIED:20240927T230120Z
UID:2840-1730133000-1730322000@daryljervisdance.com
SUMMARY:Halloween Dress Up Week
DESCRIPTION:We would like to invite all dancers to dress up in their Halloween costumes the week of Monday\, October 28th – Wednesday\, October 30th\, 2024. Please make sure costumes are appropriate\, allow for proper dance footwear\, and are not too much of a distraction from the class. The studio will be closed Thursday\, October 31st for Halloween.
URL:https://daryljervisdance.com/event/halloween-dress-up-week-2/
END:VEVENT
BEGIN:VEVENT
DTSTART;TZID=America/Detroit:20241031T163000
DTEND;TZID=America/Detroit:20241031T210000
DTSTAMP:20260421T194932
CREATED:20240927T225858Z
LAST-MODIFIED:20240927T232656Z
UID:2838-1730392200-1730408400@daryljervisdance.com
SUMMARY:Closed for HALLOWEEN
DESCRIPTION:Happy Halloween dancers! No classes tonight. Classes resume Friday\, November 1st 2024.
URL:https://daryljervisdance.com/event/closed-for-halloween-5/
END:VEVENT
END:VCALENDAR