BEGIN:VCALENDAR
VERSION:2.0
PRODID:-//Daryl Jervis Dance Studio - ECPv6.11.2.1//NONSGML v1.0//EN
CALSCALE:GREGORIAN
METHOD:PUBLISH
X-WR-CALNAME:Daryl Jervis Dance Studio
X-ORIGINAL-URL:https://daryljervisdance.com
X-WR-CALDESC:Events for Daryl Jervis Dance Studio
REFRESH-INTERVAL;VALUE=DURATION:PT1H
X-Robots-Tag:noindex
X-PUBLISHED-TTL:PT1H
BEGIN:VTIMEZONE
TZID:America/Detroit
BEGIN:DAYLIGHT
TZOFFSETFROM:-0500
TZOFFSETTO:-0400
TZNAME:EDT
DTSTART:20230312T070000
END:DAYLIGHT
BEGIN:STANDARD
TZOFFSETFROM:-0400
TZOFFSETTO:-0500
TZNAME:EST
DTSTART:20231105T060000
END:STANDARD
END:VTIMEZONE
BEGIN:VEVENT
DTSTART;TZID=America/Detroit:20230401T160000
DTEND;TZID=America/Detroit:20230401T210000
DTSTAMP:20260423T031831
CREATED:20221020T222121Z
LAST-MODIFIED:20221020T222121Z
UID:2583-1680364800-1680382800@daryljervisdance.com
SUMMARY:Preliminary Copy of Recital Program Posted for Corrections
DESCRIPTION:Please check the preliminary copy for correct classes and spelling of names for your dancers. Let us know asap of any corrections so that we may make those before going to print!
URL:https://daryljervisdance.com/event/preliminary-copy-of-recital-program-posted-for-corrections-2/
END:VEVENT
BEGIN:VEVENT
DTSTART;TZID=America/Detroit:20230403T160000
DTEND;TZID=America/Detroit:20230409T210000
DTSTAMP:20260423T031831
CREATED:20221020T233848Z
LAST-MODIFIED:20221020T233848Z
UID:2590-1680537600-1681074000@daryljervisdance.com
SUMMARY:Closed for Spring Break
DESCRIPTION:Happy Spring! \nClasses Resume Monday\, April 10th 2023
URL:https://daryljervisdance.com/event/closed-for-spring-break-3/
END:VEVENT
BEGIN:VEVENT
DTSTART;TZID=America/Detroit:20230415T160000
DTEND;TZID=America/Detroit:20230520T120000
DTSTAMP:20260423T031831
CREATED:20221020T231207Z
LAST-MODIFIED:20221020T234439Z
UID:2587-1681574400-1684584000@daryljervisdance.com
SUMMARY:Pre-Regisrtation
DESCRIPTION:“Early Bird” registration for our 2023-24 dance season now until our recital in May. Get the form and payment of $25 in during this time to ensure your dancer’s spot in their desired style and preferred class times for Fall 2023. You can do this via the registration tab on this website.
URL:https://daryljervisdance.com/event/pre-regisrtation-sent-home/
END:VEVENT
END:VCALENDAR