BEGIN:VCALENDAR
VERSION:2.0
PRODID:-//Daryl Jervis Dance Studio - ECPv6.11.2.1//NONSGML v1.0//EN
CALSCALE:GREGORIAN
METHOD:PUBLISH
X-WR-CALNAME:Daryl Jervis Dance Studio
X-ORIGINAL-URL:https://daryljervisdance.com
X-WR-CALDESC:Events for Daryl Jervis Dance Studio
REFRESH-INTERVAL;VALUE=DURATION:PT1H
X-Robots-Tag:noindex
X-PUBLISHED-TTL:PT1H
BEGIN:VTIMEZONE
TZID:America/Detroit
BEGIN:DAYLIGHT
TZOFFSETFROM:-0500
TZOFFSETTO:-0400
TZNAME:EDT
DTSTART:20250309T070000
END:DAYLIGHT
BEGIN:STANDARD
TZOFFSETFROM:-0400
TZOFFSETTO:-0500
TZNAME:EST
DTSTART:20251102T060000
END:STANDARD
END:VTIMEZONE
BEGIN:VEVENT
DTSTART;TZID=America/Detroit:20250803T160000
DTEND;TZID=America/Detroit:20250809T210000
DTSTAMP:20260421T050244
CREATED:20250318T203919Z
LAST-MODIFIED:20250728T222102Z
UID:2952-1754236800-1754773200@daryljervisdance.com
SUMMARY:HVDC Summer Intensives
DESCRIPTION:
URL:https://daryljervisdance.com/event/hvdc-summer-intensives/
LOCATION:Daryl Jervis Dance Studio\, 7575 Sylvan Towne Dr\, Sylvania\, OH\, 43560\, United States
ATTACH;FMTTYPE=image/png:https://daryljervisdance.com/wp-content/uploads/2025/07/HVDC-Summer-Intensive-2024-2.png
END:VEVENT
END:VCALENDAR