BEGIN:VCALENDAR
VERSION:2.0
PRODID:-//Daryl Jervis Dance Studio - ECPv6.11.2.1//NONSGML v1.0//EN
CALSCALE:GREGORIAN
METHOD:PUBLISH
X-WR-CALNAME:Daryl Jervis Dance Studio
X-ORIGINAL-URL:https://daryljervisdance.com
X-WR-CALDESC:Events for Daryl Jervis Dance Studio
REFRESH-INTERVAL;VALUE=DURATION:PT1H
X-Robots-Tag:noindex
X-PUBLISHED-TTL:PT1H
BEGIN:VTIMEZONE
TZID:America/Detroit
BEGIN:DAYLIGHT
TZOFFSETFROM:-0500
TZOFFSETTO:-0400
TZNAME:EDT
DTSTART:20250309T070000
END:DAYLIGHT
BEGIN:STANDARD
TZOFFSETFROM:-0400
TZOFFSETTO:-0500
TZNAME:EST
DTSTART:20251102T060000
END:STANDARD
END:VTIMEZONE
BEGIN:VEVENT
DTSTART;TZID=America/Detroit:20250714T163000
DTEND;TZID=America/Detroit:20250717T180000
DTSTAMP:20260421T061220
CREATED:20250318T210513Z
LAST-MODIFIED:20250319T204932Z
UID:2957-1752510600-1752775200@daryljervisdance.com
SUMMARY:DJDS Bluey Summer Camp 1
DESCRIPTION:This camp is for ages 3-5 from 4:30-6 each day. Come join us for themed dance routines\, fun crafts\, dance games\, snacks and water\, and a performance at the end of camp for the parents!
URL:https://daryljervisdance.com/event/djds-blue-summer-camp-1/
LOCATION:Daryl Jervis Dance Studio\, 7575 Sylvan Towne Dr\, Sylvania\, OH\, 43560\, United States
END:VEVENT
BEGIN:VEVENT
DTSTART;TZID=America/Detroit:20250714T183000
DTEND;TZID=America/Detroit:20250717T200000
DTSTAMP:20260421T061220
CREATED:20250318T210737Z
LAST-MODIFIED:20250319T204859Z
UID:2961-1752517800-1752782400@daryljervisdance.com
SUMMARY:DJDS Wicked Summer Camp 1
DESCRIPTION:This camp is for ages 6-8 from 6:30-8 each day. Come join us for themed dance routines\, crafts\, dance games\, snacks and water\, and a performance at the end of camp for the parents!
URL:https://daryljervisdance.com/event/djds-wicked-summer-camp-1/
LOCATION:Daryl Jervis Dance Studio\, 7575 Sylvan Towne Dr\, Sylvania\, OH\, 43560\, United States
END:VEVENT
END:VCALENDAR