BEGIN:VCALENDAR
VERSION:2.0
PRODID:-//Daryl Jervis Dance Studio - ECPv6.11.2.1//NONSGML v1.0//EN
CALSCALE:GREGORIAN
METHOD:PUBLISH
X-WR-CALNAME:Daryl Jervis Dance Studio
X-ORIGINAL-URL:https://daryljervisdance.com
X-WR-CALDESC:Events for Daryl Jervis Dance Studio
REFRESH-INTERVAL;VALUE=DURATION:PT1H
X-Robots-Tag:noindex
X-PUBLISHED-TTL:PT1H
BEGIN:VTIMEZONE
TZID:America/Detroit
BEGIN:DAYLIGHT
TZOFFSETFROM:-0500
TZOFFSETTO:-0400
TZNAME:EDT
DTSTART:20250309T070000
END:DAYLIGHT
BEGIN:STANDARD
TZOFFSETFROM:-0400
TZOFFSETTO:-0500
TZNAME:EST
DTSTART:20251102T060000
END:STANDARD
END:VTIMEZONE
BEGIN:VEVENT
DTSTART;TZID=America/Detroit:20250603T173000
DTEND;TZID=America/Detroit:20250603T203000
DTSTAMP:20260421T081350
CREATED:20250318T211333Z
LAST-MODIFIED:20250319T205045Z
UID:2967-1748971800-1748982600@daryljervisdance.com
SUMMARY:HVDC Audition Workshop 2025 Day 2
DESCRIPTION:Learn your audition pieces\, and show your skills in the classroom. See audition tab for more details.
URL:https://daryljervisdance.com/event/hvdc-audition-workshop-2025-day-2/
LOCATION:Daryl Jervis Dance Studio\, 7575 Sylvan Towne Dr\, Sylvania\, OH\, 43560\, United States
END:VEVENT
END:VCALENDAR