BEGIN:VCALENDAR
VERSION:2.0
PRODID:-//Daryl Jervis Dance Studio - ECPv6.11.2.1//NONSGML v1.0//EN
CALSCALE:GREGORIAN
METHOD:PUBLISH
X-WR-CALNAME:Daryl Jervis Dance Studio
X-ORIGINAL-URL:https://daryljervisdance.com
X-WR-CALDESC:Events for Daryl Jervis Dance Studio
REFRESH-INTERVAL;VALUE=DURATION:PT1H
X-Robots-Tag:noindex
X-PUBLISHED-TTL:PT1H
BEGIN:VTIMEZONE
TZID:America/Detroit
BEGIN:DAYLIGHT
TZOFFSETFROM:-0500
TZOFFSETTO:-0400
TZNAME:EDT
DTSTART:20250309T070000
END:DAYLIGHT
BEGIN:STANDARD
TZOFFSETFROM:-0400
TZOFFSETTO:-0500
TZNAME:EST
DTSTART:20251102T060000
END:STANDARD
END:VTIMEZONE
BEGIN:VEVENT
DTSTART;TZID=America/Detroit:20250517T090000
DTEND;TZID=America/Detroit:20250517T110000
DTSTAMP:20260421T095529
CREATED:20250318T203215Z
LAST-MODIFIED:20250502T231957Z
UID:2945-1747472400-1747479600@daryljervisdance.com
SUMMARY:Grande Finale Rehearsal (2nd act dancers only)
DESCRIPTION:2nd act and HVDC dancers only.
URL:https://daryljervisdance.com/event/grande-finale-rehearsal-2nd-act-dancers-only/
LOCATION:Daryl Jervis Dance Studio\, 7575 Sylvan Towne Dr\, Sylvania\, OH\, 43560\, United States
END:VEVENT
END:VCALENDAR