BEGIN:VCALENDAR
VERSION:2.0
PRODID:-//Daryl Jervis Dance Studio - ECPv6.11.2.1//NONSGML v1.0//EN
CALSCALE:GREGORIAN
METHOD:PUBLISH
X-WR-CALNAME:Daryl Jervis Dance Studio
X-ORIGINAL-URL:https://daryljervisdance.com
X-WR-CALDESC:Events for Daryl Jervis Dance Studio
REFRESH-INTERVAL;VALUE=DURATION:PT1H
X-Robots-Tag:noindex
X-PUBLISHED-TTL:PT1H
BEGIN:VTIMEZONE
TZID:America/Detroit
BEGIN:DAYLIGHT
TZOFFSETFROM:-0500
TZOFFSETTO:-0400
TZNAME:EDT
DTSTART:20240310T070000
END:DAYLIGHT
BEGIN:STANDARD
TZOFFSETFROM:-0400
TZOFFSETTO:-0500
TZNAME:EST
DTSTART:20241103T060000
END:STANDARD
END:VTIMEZONE
BEGIN:VEVENT
DTSTART;TZID=America/Detroit:20241115T163000
DTEND;TZID=America/Detroit:20241115T193000
DTSTAMP:20260421T194212
CREATED:20240927T230634Z
LAST-MODIFIED:20240927T230634Z
UID:2844-1731688200-1731699000@daryljervisdance.com
SUMMARY:DJDS Costume Deposits Due
DESCRIPTION:All Daryl Jervis Dance students paid by this date will be measured and costumes will be ordered.  We order costumes of good quality from various costume companies in the United States. These costumes are yours to keep. Some classes will have an additional expense of a pair of tights\, props\, accessories\, and/or a costume balance.
URL:https://daryljervisdance.com/event/djds-costume-deposits-due-5/
END:VEVENT
END:VCALENDAR