BEGIN:VCALENDAR
VERSION:2.0
PRODID:-//Daryl Jervis Dance Studio - ECPv6.11.2.1//NONSGML v1.0//EN
CALSCALE:GREGORIAN
METHOD:PUBLISH
X-ORIGINAL-URL:https://daryljervisdance.com
X-WR-CALDESC:Events for Daryl Jervis Dance Studio
REFRESH-INTERVAL;VALUE=DURATION:PT1H
X-Robots-Tag:noindex
X-PUBLISHED-TTL:PT1H
BEGIN:VTIMEZONE
TZID:America/Detroit
BEGIN:DAYLIGHT
TZOFFSETFROM:-0500
TZOFFSETTO:-0400
TZNAME:EDT
DTSTART:20240310T070000
END:DAYLIGHT
BEGIN:STANDARD
TZOFFSETFROM:-0400
TZOFFSETTO:-0500
TZNAME:EST
DTSTART:20241103T060000
END:STANDARD
END:VTIMEZONE
BEGIN:VEVENT
DTSTART;TZID=America/Detroit:20241101T163000
DTEND;TZID=America/Detroit:20241101T193000
DTSTAMP:20260421T194932
CREATED:20240927T232801Z
LAST-MODIFIED:20240927T232801Z
UID:2864-1730478600-1730489400@daryljervisdance.com
SUMMARY:Classes Resume
DESCRIPTION:WELCOME BACK DANCERS!
URL:https://daryljervisdance.com/event/classes-resume-10/
END:VEVENT
BEGIN:VEVENT
DTSTART;TZID=America/Detroit:20241101T163000
DTEND;TZID=America/Detroit:20241101T210000
DTSTAMP:20260421T194932
CREATED:20240927T230438Z
LAST-MODIFIED:20240927T230438Z
UID:2842-1730478600-1730494800@daryljervisdance.com
SUMMARY:Recital Permisson Slips Sent Out
DESCRIPTION:We encourage 100% participation in our annual dance recital. It gives the dancers a sense of accomplishment in what they’ve learned and helps build their confidence.Please reserve Monday\, May 19th – Thursday\, May 22nd\, 2025 for our 89th Annual Dance Recital held at the Stranahan Theater.
URL:https://daryljervisdance.com/event/recital-permisson-slips-sent-out/
END:VEVENT
END:VCALENDAR