BEGIN:VCALENDAR
VERSION:2.0
PRODID:-//Daryl Jervis Dance Studio - ECPv6.11.2.1//NONSGML v1.0//EN
CALSCALE:GREGORIAN
METHOD:PUBLISH
X-ORIGINAL-URL:https://daryljervisdance.com
X-WR-CALDESC:Events for Daryl Jervis Dance Studio
REFRESH-INTERVAL;VALUE=DURATION:PT1H
X-Robots-Tag:noindex
X-PUBLISHED-TTL:PT1H
BEGIN:VTIMEZONE
TZID:America/Detroit
BEGIN:DAYLIGHT
TZOFFSETFROM:-0500
TZOFFSETTO:-0400
TZNAME:EDT
DTSTART:20240310T070000
END:DAYLIGHT
BEGIN:STANDARD
TZOFFSETFROM:-0400
TZOFFSETTO:-0500
TZNAME:EST
DTSTART:20241103T060000
END:STANDARD
END:VTIMEZONE
BEGIN:VEVENT
DTSTART;TZID=America/Detroit:20240325T163000
DTEND;TZID=America/Detroit:20240331T210000
DTSTAMP:20260422T071119
CREATED:20231009T234128Z
LAST-MODIFIED:20231009T234128Z
UID:2728-1711384200-1711918800@daryljervisdance.com
SUMMARY:Closed for Spring Break
DESCRIPTION:
URL:https://daryljervisdance.com/event/closed-for-spring-break-4/
END:VEVENT
END:VCALENDAR