BEGIN:VCALENDAR
VERSION:2.0
PRODID:-//Daryl Jervis Dance Studio - ECPv6.11.2.1//NONSGML v1.0//EN
CALSCALE:GREGORIAN
METHOD:PUBLISH
X-ORIGINAL-URL:https://daryljervisdance.com
X-WR-CALDESC:Events for Daryl Jervis Dance Studio
REFRESH-INTERVAL;VALUE=DURATION:PT1H
X-Robots-Tag:noindex
X-PUBLISHED-TTL:PT1H
BEGIN:VTIMEZONE
TZID:America/Detroit
BEGIN:DAYLIGHT
TZOFFSETFROM:-0500
TZOFFSETTO:-0400
TZNAME:EDT
DTSTART:20230312T070000
END:DAYLIGHT
BEGIN:STANDARD
TZOFFSETFROM:-0400
TZOFFSETTO:-0500
TZNAME:EST
DTSTART:20231105T060000
END:STANDARD
END:VTIMEZONE
BEGIN:VEVENT
DTSTART;TZID=America/Detroit:20231031T163000
DTEND;TZID=America/Detroit:20231031T210000
DTSTAMP:20260422T151727
CREATED:20231009T222053Z
LAST-MODIFIED:20231009T222053Z
UID:2707-1698769800-1698786000@daryljervisdance.com
SUMMARY:Closed for Halloween
DESCRIPTION:Tuesday\, October 24th through Monday\, October 30th we invite all of our dancers to dress up during their regularly scheduled classes.  \nPlease make sure costumes are appropriate\, allow for proper dance footwear\, and are not too much of a distraction from class. \nWe can’t wait to see all our darling ghouls and dancing goblins the week of Halloween. \nDJDS WILL BE CLOSED TUESDAY\,OCTOBER 31ST \nHappy Halloween!
URL:https://daryljervisdance.com/event/closed-for-halloween-4/
END:VEVENT
END:VCALENDAR