BEGIN:VCALENDAR
VERSION:2.0
PRODID:-//Daryl Jervis Dance Studio - ECPv6.11.2.1//NONSGML v1.0//EN
CALSCALE:GREGORIAN
METHOD:PUBLISH
X-WR-CALNAME:Daryl Jervis Dance Studio
X-ORIGINAL-URL:https://daryljervisdance.com
X-WR-CALDESC:Events for Daryl Jervis Dance Studio
REFRESH-INTERVAL;VALUE=DURATION:PT1H
X-Robots-Tag:noindex
X-PUBLISHED-TTL:PT1H
BEGIN:VTIMEZONE
TZID:America/Detroit
BEGIN:DAYLIGHT
TZOFFSETFROM:-0500
TZOFFSETTO:-0400
TZNAME:EDT
DTSTART:20230312T070000
END:DAYLIGHT
BEGIN:STANDARD
TZOFFSETFROM:-0400
TZOFFSETTO:-0500
TZNAME:EST
DTSTART:20231105T060000
END:STANDARD
END:VTIMEZONE
BEGIN:VEVENT
DTSTART;TZID=America/Detroit:20230522T160000
DTEND;TZID=America/Detroit:20230523T210000
DTSTAMP:20260423T031834
CREATED:20221020T234955Z
LAST-MODIFIED:20230518T002731Z
UID:2598-1684771200-1684875600@daryljervisdance.com
SUMMARY:87th Annual DJDS Dance Recital
DESCRIPTION:Join us for our 87th Annual Dance Recital at the Stranahan Theatre.
URL:https://daryljervisdance.com/event/87th-annual-djds-dance-recital/
END:VEVENT
END:VCALENDAR